BEGIN:VCALENDAR
PRODID:-//PUBBLE//agenda//NL
VERSION:2.0
METHOD:PUBLISH
BEGIN:VEVENT
DTSTART:20240619T130726Z
DTEND:20240619T140726Z
DTSTAMP:20260419T211852Z
UID:f5dcfbc5-b4a5-41a2-b315-c3e246ee11fe
CREATED:20260419T211852Z
NAME:De dag van het paard in het Boerenbondsmuseum Gemert gemertsnieuwsblad.nl
X-WR-CALNAME:De dag van het paard in het Boerenbondsmuseum Gemert
X-ALT-DESC;FMTTYPE=text/html:<a href='/agenda/2024/6/20/de-dag-van-het-paard-in-het-boerenbondsmuseum-gemert-50845'>/agenda/2024/6/20/de-dag-van-het-paard-in-het-boerenbondsmuseum-gemert-50845</a> || <p>GEMERT - Ontdek hoe onmisbaar paarden waren in het boerenleven begin 1900 tijdens de Dag van het Paard op 23 juni in het Boerenbondsmuseum. Het Gemertse museum is geopend van 13.00 tot 17.00 uur voor demonstraties en ritjes. </p><p>Aan het begin van de 20e eeuw waren paarden van cruciaal belang voor boerenbedrijven. Zij vormden een essentieel onderdeel van het dagelijkse werk op het land en waren onmisbaar voor zowel veldwerk als transport. Naast het ploegen en trekken van karren, werden paarden ook ingezet voor andere boerenactiviteiten.&nbsp;</p><p>Paarden waren niet alleen een krachtbron; ze waren ook partners en medewerkers op het boerenbedrijf, waarvan het welzijn en de verzorging hoog in het vaandel stonden. De overgang naar mechanisatie in de landbouw in de loop van de 20e eeuw verminderde uiteindelijk de afhankelijkheid van paarden in de landbouw, maar in het begin van die eeuw waren ze nog onmisbaar.&nbsp;</p><p>Het is dus meer dan terecht dat jaarlijks in het Boerenbondsmuseum dit edele dier tijdens een speciale paardendag extra in het zonnetje wordt gezet. Er zijn diverse rassen kleine en grote paarden aanwezig. De smid is aanwezig en toont demonstraties hoefsmeden. Met de huifkar, ponykar en op een vliegend tapijt kunnen ritjes gemaakt worden.&nbsp;</p><p>Het koor De Gezellige Noten uit Herpen verzorgt deze middag een aantal optredens. Ze zingen uitsluitend Nederlandstalige nummers, variërend van smartlappen tot levensliederen.</p>
DESCRIPTION:<a href='/agenda/2024/6/20/de-dag-van-het-paard-in-het-boerenbondsmuseum-gemert-50845'>/agenda/2024/6/20/de-dag-van-het-paard-in-het-boerenbondsmuseum-gemert-50845</a> || <p>GEMERT - Ontdek hoe onmisbaar paarden waren in het boerenleven begin 1900 tijdens de Dag van het Paard op 23 juni in het Boerenbondsmuseum. Het Gemertse museum is geopend van 13.00 tot 17.00 uur voor demonstraties en ritjes. </p><p>Aan het begin van de 20e eeuw waren paarden van cruciaal belang voor boerenbedrijven. Zij vormden een essentieel onderdeel van het dagelijkse werk op het land en waren onmisbaar voor zowel veldwerk als transport. Naast het ploegen en trekken van karren, werden paarden ook ingezet voor andere boerenactiviteiten.&nbsp;</p><p>Paarden waren niet alleen een krachtbron; ze waren ook partners en medewerkers op het boerenbedrijf, waarvan het welzijn en de verzorging hoog in het vaandel stonden. De overgang naar mechanisatie in de landbouw in de loop van de 20e eeuw verminderde uiteindelijk de afhankelijkheid van paarden in de landbouw, maar in het begin van die eeuw waren ze nog onmisbaar.&nbsp;</p><p>Het is dus meer dan terecht dat jaarlijks in het Boerenbondsmuseum dit edele dier tijdens een speciale paardendag extra in het zonnetje wordt gezet. Er zijn diverse rassen kleine en grote paarden aanwezig. De smid is aanwezig en toont demonstraties hoefsmeden. Met de huifkar, ponykar en op een vliegend tapijt kunnen ritjes gemaakt worden.&nbsp;</p><p>Het koor De Gezellige Noten uit Herpen verzorgt deze middag een aantal optredens. Ze zingen uitsluitend Nederlandstalige nummers, variërend van smartlappen tot levensliederen.</p>
LAST-MODIFIED:20260419T211852Z
LOCATION: Boerenbondsmuseum | Pandelaar 106 Gemert
SEQUENCE:0
STATUS:CONFIRMED
SUMMARY:De dag van het paard in het Boerenbondsmuseum Gemert
TRANSP:OPAQUE
END:VEVENT
END:VCALENDAR
