BEGIN:VCALENDAR
PRODID:-//PUBBLE//agenda//NL
VERSION:2.0
METHOD:PUBLISH
BEGIN:VEVENT
DTSTART:20250302T113000Z
DTEND:20250302T123000Z
DTSTAMP:20260420T182220Z
UID:21f4bf94-282a-47e7-9d91-e2d607ff4238
CREATED:20260420T182220Z
NAME:Groot Gemertse optocht de Drumknaauwers gemertsnieuwsblad.nl
X-WR-CALNAME:Groot Gemertse optocht de Drumknaauwers
X-ALT-DESC;FMTTYPE=text/html:<a href='/agenda/2025/3/2/groot-gemertse-optocht-de-drumknaauwers-83134'>/agenda/2025/3/2/groot-gemertse-optocht-de-drumknaauwers-83134</a> || <p>Traditioneel trekt op Carnavalszondag de Optocht door de straten van Waeverstad. De Optochtcommissie verzorgt deze feestelijke en kleurrijke verzameling van muziek, loopgroepen, wagens en statiewagens. &nbsp; 2 maart 2025 Aanvang 13.30 uur</p>
DESCRIPTION:<a href='/agenda/2025/3/2/groot-gemertse-optocht-de-drumknaauwers-83134'>/agenda/2025/3/2/groot-gemertse-optocht-de-drumknaauwers-83134</a> || <p>Traditioneel trekt op Carnavalszondag de Optocht door de straten van Waeverstad. De Optochtcommissie verzorgt deze feestelijke en kleurrijke verzameling van muziek, loopgroepen, wagens en statiewagens. &nbsp; 2 maart 2025 Aanvang 13.30 uur</p>
LAST-MODIFIED:20260420T182220Z
LOCATION: Ridderplein | Ridderplein 1 Gemert
SEQUENCE:0
STATUS:CONFIRMED
SUMMARY:Groot Gemertse optocht de Drumknaauwers
TRANSP:OPAQUE
END:VEVENT
END:VCALENDAR
