BEGIN:VCALENDAR
PRODID:-//PUBBLE//agenda//NL
VERSION:2.0
METHOD:PUBLISH
BEGIN:VEVENT
DTSTART:20260302T173000Z
DTEND:20260420T193000Z
DTSTAMP:20260420T203907Z
UID:313331a7-a566-4068-9984-628f1da7aca4
CREATED:20260420T203907Z
NAME:Introductiecursus Ayurveda gemertsnieuwsblad.nl
X-WR-CALNAME:Introductiecursus Ayurveda
X-ALT-DESC;FMTTYPE=text/html:<a href='/agenda/2026/3/2/introductiecursus-ayurveda-91682'>/agenda/2026/3/2/introductiecursus-ayurveda-91682</a> || <p>Introductiecursus Ayurveda</p><p>Heerlijck Hopveld, de tuinen van VELT-Gemert, organiseert een introductie cursus met 5 lessen over de Indiase gezondheidsleer Ayurveda. De cursus bestaat uit 5 maandagavonden van 19:30-22:00 u in de maanden maart en april. &nbsp;Deze Ayurvedische leer is gericht op balans tussen lichaam en geest. Via persoonlijke leefregels, biologische voeding en natuurlijke genezing. Homeopaat Josephine Broeders uit Uden verzorgt de cursus. &nbsp;Er vinden er tal van proeverijtjes plaats tussen de theorie door om gerechten, kruiden en geneeskrachtige kruidenpasta’s te leren kennen en praktisch toe te passen. &nbsp;</p><p>De 5 lessen worden gegeven op maandagavond 2-16 -30 maart en 13-20 april . Aan bod komen de geschiedenis van Ayurveda, de 5 elementen, de 3 hoofdkenmerken van een persoon (dosha`s), bepalen van de eigen dominante dosha en de sturing daarop met het herkennen van de disbalans op lichaamstype, gedrag en gezondheid, het samenstellen van een ayurvedische maaltijd, de reinigingstechnieken en het inzetten van kruiden uit het Midden-Oosten.</p><p>De informatie die wordt behandeld is grotendeels digitaal beschikbaar, soms op papier, zodat je die nog eens na kunt kijken en met recepten eventueel zelf aan de slag kunt. Er is plek voor maximaal 10 deelnemers, biologische koffie en kruidenthee is bij de prijs inbegrepen.</p><p>Doe je mee? Geef je op per email: info@heerlijckhopveld.nl</p><p>In de tuinen van VELT-Gemert ‘Heerlijck Hopveld’ kun je veel leren over en experimenteren met een natuurlijke leefstijl. Het jaarprogramma biedt concrete en praktische workshops. Kijk op www.heerlijckhopveld.nl voor de agenda.</p>
DESCRIPTION:<a href='/agenda/2026/3/2/introductiecursus-ayurveda-91682'>/agenda/2026/3/2/introductiecursus-ayurveda-91682</a> || <p>Introductiecursus Ayurveda</p><p>Heerlijck Hopveld, de tuinen van VELT-Gemert, organiseert een introductie cursus met 5 lessen over de Indiase gezondheidsleer Ayurveda. De cursus bestaat uit 5 maandagavonden van 19:30-22:00 u in de maanden maart en april. &nbsp;Deze Ayurvedische leer is gericht op balans tussen lichaam en geest. Via persoonlijke leefregels, biologische voeding en natuurlijke genezing. Homeopaat Josephine Broeders uit Uden verzorgt de cursus. &nbsp;Er vinden er tal van proeverijtjes plaats tussen de theorie door om gerechten, kruiden en geneeskrachtige kruidenpasta’s te leren kennen en praktisch toe te passen. &nbsp;</p><p>De 5 lessen worden gegeven op maandagavond 2-16 -30 maart en 13-20 april . Aan bod komen de geschiedenis van Ayurveda, de 5 elementen, de 3 hoofdkenmerken van een persoon (dosha`s), bepalen van de eigen dominante dosha en de sturing daarop met het herkennen van de disbalans op lichaamstype, gedrag en gezondheid, het samenstellen van een ayurvedische maaltijd, de reinigingstechnieken en het inzetten van kruiden uit het Midden-Oosten.</p><p>De informatie die wordt behandeld is grotendeels digitaal beschikbaar, soms op papier, zodat je die nog eens na kunt kijken en met recepten eventueel zelf aan de slag kunt. Er is plek voor maximaal 10 deelnemers, biologische koffie en kruidenthee is bij de prijs inbegrepen.</p><p>Doe je mee? Geef je op per email: info@heerlijckhopveld.nl</p><p>In de tuinen van VELT-Gemert ‘Heerlijck Hopveld’ kun je veel leren over en experimenteren met een natuurlijke leefstijl. Het jaarprogramma biedt concrete en praktische workshops. Kijk op www.heerlijckhopveld.nl voor de agenda.</p>
LAST-MODIFIED:20260420T203907Z
LOCATION: Heerlijck Hopveld | Hopveld 21 Gemert
SEQUENCE:0
STATUS:CONFIRMED
SUMMARY:Introductiecursus Ayurveda
TRANSP:OPAQUE
END:VEVENT
END:VCALENDAR
