BEGIN:VCALENDAR
PRODID:-//PUBBLE//agenda//NL
VERSION:2.0
METHOD:PUBLISH
BEGIN:VEVENT
DTSTART:20260213T180000Z
DTEND:20260213T190000Z
DTSTAMP:20260425T170408Z
UID:7b295559-31f2-4a94-a673-0660bbe46769
CREATED:20260425T170408Z
NAME:Sleuteloverdracht Carnaval gemertsnieuwsblad.nl
X-WR-CALNAME:Sleuteloverdracht Carnaval
X-ALT-DESC;FMTTYPE=text/html:<a href='/agenda/2026/2/13/sleuteloverdracht-carnaval-91819'>/agenda/2026/2/13/sleuteloverdracht-carnaval-91819</a> || <p>Sleuteloverdracht door het college van burgemeester en wethouders aan de prinsen van alle carnavalsverenigingen in Gemert-Bakel in uitgaanscentrum Time Out. </p>
DESCRIPTION:<a href='/agenda/2026/2/13/sleuteloverdracht-carnaval-91819'>/agenda/2026/2/13/sleuteloverdracht-carnaval-91819</a> || <p>Sleuteloverdracht door het college van burgemeester en wethouders aan de prinsen van alle carnavalsverenigingen in Gemert-Bakel in uitgaanscentrum Time Out. </p>
LAST-MODIFIED:20260425T170408Z
LOCATION: Time Out | Handelseweg 11 Handel
SEQUENCE:0
STATUS:CONFIRMED
SUMMARY:Sleuteloverdracht Carnaval
TRANSP:OPAQUE
END:VEVENT
END:VCALENDAR
