BEGIN:VCALENDAR
PRODID:-//PUBBLE//agenda//NL
VERSION:2.0
METHOD:PUBLISH
BEGIN:VEVENT
DTSTART:20260509T083000Z
DTEND:20260509T110000Z
DTSTAMP:20260420T222151Z
UID:dfca7a34-2d2a-4d90-8e2c-be11fc6e8c02
CREATED:20260420T222151Z
NAME:Workshop Vega Lunch gemertsnieuwsblad.nl
X-WR-CALNAME:Workshop Vega Lunch
X-ALT-DESC;FMTTYPE=text/html:<a href='/agenda/2026/5/9/workshop-vega-lunch-92248'>/agenda/2026/5/9/workshop-vega-lunch-92248</a> || <p>Heerlijck Hopveld, de tuinen van VELT Gemert, organiseert onder leiding van docent Maartje van Velthooven van het cateringbedrijfje “pompoenaubergine.nl” een heerlijke vegetarische lunch met frisse voorjaars groenten en verrassende kruiden deels uit de VELT-tuin.Een lekker soepje, een smaakvolle salade en een verrassende spread zullen in ieder geval op het menu staan! Er is ruimte voor maximaal 8 deelnemers die samen hun lunch gaan proeven. Dat wordt weer gezellig.</p><p>Deze workshop kost 37.50 euro per persoon Leden 20% korting</p><p>Aanmelden via info:heerlijckhopveld.nl</p>
DESCRIPTION:<a href='/agenda/2026/5/9/workshop-vega-lunch-92248'>/agenda/2026/5/9/workshop-vega-lunch-92248</a> || <p>Heerlijck Hopveld, de tuinen van VELT Gemert, organiseert onder leiding van docent Maartje van Velthooven van het cateringbedrijfje “pompoenaubergine.nl” een heerlijke vegetarische lunch met frisse voorjaars groenten en verrassende kruiden deels uit de VELT-tuin.Een lekker soepje, een smaakvolle salade en een verrassende spread zullen in ieder geval op het menu staan! Er is ruimte voor maximaal 8 deelnemers die samen hun lunch gaan proeven. Dat wordt weer gezellig.</p><p>Deze workshop kost 37.50 euro per persoon Leden 20% korting</p><p>Aanmelden via info:heerlijckhopveld.nl</p>
LAST-MODIFIED:20260420T222151Z
LOCATION: Heerlijck Hopveld | Hopveld 21 Gemert
SEQUENCE:0
STATUS:CONFIRMED
SUMMARY:Workshop Vega Lunch
TRANSP:OPAQUE
END:VEVENT
END:VCALENDAR
