BEGIN:VCALENDAR
PRODID:-//PUBBLE//agenda//NL
VERSION:2.0
METHOD:PUBLISH
BEGIN:VEVENT
DTSTART:20260330T151825Z
DTEND:20260330T161825Z
DTSTAMP:20260421T102322Z
UID:50cefc64-0ee7-457d-8687-2f527e84b680
CREATED:20260421T102322Z
NAME:IVN Lentewandeling De Stippelberg gemertsnieuwsblad.nl
X-WR-CALNAME:IVN Lentewandeling De Stippelberg
X-ALT-DESC;FMTTYPE=text/html:<a href='/agenda/2026/4/15/ivn-lentewandeling-de-stippelberg-93118'>/agenda/2026/4/15/ivn-lentewandeling-de-stippelberg-93118</a> || <p><strong>DE RIPS - De lente is in aantocht en dat is goed te zien in natuurgebied De Stippelberg. Samen met IVN-gids Rob Staals maak je woensdag 15 april een mooie wandeling door dit afwisselende gebied, op zoek naar de eerste tekenen van het nieuwe seizoen.</strong></p><p>Tijdens de wandeling loop je over paden en kronkelpaadjes langs stuifduinen, eiken- en beukenlanen. Onderweg ontdek je hoe de natuur langzaam ontwaakt en het landschap steeds meer kleur krijgt.&nbsp;</p><p>De wandeling is geschikt voor jong en oud, vanaf 7 jaar. Trek stevige (wandel)schoenen aan en zorg voor passende kleding. De wandeling duurt ongeveer anderhalf uur. Verzamelen en parkeren kan bij de parkeerplaats tegenover de Boswachterswoning, Stippelberg 1 in De Rips, om 14.00 uur. Graag aanmelden via: www.bibliotheeklagebeemden.nl.</p>
DESCRIPTION:<a href='/agenda/2026/4/15/ivn-lentewandeling-de-stippelberg-93118'>/agenda/2026/4/15/ivn-lentewandeling-de-stippelberg-93118</a> || <p><strong>DE RIPS - De lente is in aantocht en dat is goed te zien in natuurgebied De Stippelberg. Samen met IVN-gids Rob Staals maak je woensdag 15 april een mooie wandeling door dit afwisselende gebied, op zoek naar de eerste tekenen van het nieuwe seizoen.</strong></p><p>Tijdens de wandeling loop je over paden en kronkelpaadjes langs stuifduinen, eiken- en beukenlanen. Onderweg ontdek je hoe de natuur langzaam ontwaakt en het landschap steeds meer kleur krijgt.&nbsp;</p><p>De wandeling is geschikt voor jong en oud, vanaf 7 jaar. Trek stevige (wandel)schoenen aan en zorg voor passende kleding. De wandeling duurt ongeveer anderhalf uur. Verzamelen en parkeren kan bij de parkeerplaats tegenover de Boswachterswoning, Stippelberg 1 in De Rips, om 14.00 uur. Graag aanmelden via: www.bibliotheeklagebeemden.nl.</p>
LAST-MODIFIED:20260421T102322Z
LOCATION: Tegenover boswachterswoning, Stippelberg 1 | Stippelberg 1 De Rips
SEQUENCE:0
STATUS:CONFIRMED
SUMMARY:IVN Lentewandeling De Stippelberg
TRANSP:OPAQUE
END:VEVENT
END:VCALENDAR
