BEGIN:VCALENDAR
PRODID:-//PUBBLE//agenda//NL
VERSION:2.0
METHOD:PUBLISH
BEGIN:VEVENT
DTSTART:20260522T180000Z
DTEND:20260522T193000Z
DTSTAMP:20260420T203123Z
UID:5e3c2ac3-17f9-4e77-812c-111cb4cd5a90
CREATED:20260420T203123Z
NAME:Kickoff theaterseizoen 2026/2027 gemertsnieuwsblad.nl
X-WR-CALNAME:Kickoff theaterseizoen 2026/2027
X-ALT-DESC;FMTTYPE=text/html:<a href='/agenda/2026/5/22/kickoff-theaterseizoen-2026-2027-93475'>/agenda/2026/5/22/kickoff-theaterseizoen-2026-2027-93475</a> || <p>We trappen het nieuwe theaterseizoen 2026/2027 af met een aantal korte preview-voorstellingen: muziek van het Boudewijn de Groot project, cabaretier Jules Keeris vertelt over Knegsel-Zuid, we zien en horen een fragment uit de Broadway musical ‘Anastasia’ van STEMP en jeugdtheater Carrousel speelt een toneelscène uit Het Zakmes. Bibliotheek De lage beemden geeft een interactieve presentatie en twee afdelingen van KunstLokaal, MusicalLokaal en DansLokaal, laten een fragment zien uit hun show.</p><p>In de foyer klinkt een pianofestival door leerlingen van KunstLokaal en na&nbsp;de Kickoff start de kaartverkoop van seizoen 2026/2027 bij De Eendracht.</p><p>Om 22:30 uur staat het programma ook hier online en kun je via onze website kaarten kopen</p>
DESCRIPTION:<a href='/agenda/2026/5/22/kickoff-theaterseizoen-2026-2027-93475'>/agenda/2026/5/22/kickoff-theaterseizoen-2026-2027-93475</a> || <p>We trappen het nieuwe theaterseizoen 2026/2027 af met een aantal korte preview-voorstellingen: muziek van het Boudewijn de Groot project, cabaretier Jules Keeris vertelt over Knegsel-Zuid, we zien en horen een fragment uit de Broadway musical ‘Anastasia’ van STEMP en jeugdtheater Carrousel speelt een toneelscène uit Het Zakmes. Bibliotheek De lage beemden geeft een interactieve presentatie en twee afdelingen van KunstLokaal, MusicalLokaal en DansLokaal, laten een fragment zien uit hun show.</p><p>In de foyer klinkt een pianofestival door leerlingen van KunstLokaal en na&nbsp;de Kickoff start de kaartverkoop van seizoen 2026/2027 bij De Eendracht.</p><p>Om 22:30 uur staat het programma ook hier online en kun je via onze website kaarten kopen</p>
LAST-MODIFIED:20260420T203123Z
LOCATION: De Eendracht | St.-Annastraat 60 Gemert
SEQUENCE:0
STATUS:CONFIRMED
SUMMARY:Kickoff theaterseizoen 2026/2027
TRANSP:OPAQUE
END:VEVENT
END:VCALENDAR
