BEGIN:VCALENDAR
PRODID:-//PUBBLE//agenda//NL
VERSION:2.0
METHOD:PUBLISH
BEGIN:VEVENT
DTSTART:20260419T120000Z
DTEND:20260419T130000Z
DTSTAMP:20260419T124337Z
UID:bf24f896-5057-447f-9f6d-2cbe6dd6304c
CREATED:20260419T124337Z
NAME:Jeugdtheater Spinner speelt Robin Hood: het wordt nacht in Nottingham gemertsnieuwsblad.nl
X-WR-CALNAME:Jeugdtheater Spinner speelt Robin Hood: het wordt nacht in Nottingham
X-ALT-DESC;FMTTYPE=text/html:<a href='/agenda/2026/4/19/jeugdtheater-spinner-speelt-robin-hood-het-wordt-nacht-in-nottingham-93503'>/agenda/2026/4/19/jeugdtheater-spinner-speelt-robin-hood-het-wordt-nacht-in-nottingham-93503</a> || <p>SPiNNER Robin Hood - Het wordt nacht in Nottingham</p><p>SPiNNER, jeugdtheater door jeugd, speelt maar liefst twee keer Robin Hood - Het wordt nacht in Nottingham, een verrassende, energieke voorstelling vol met actie, fantasie, spelplezier en spanning.&nbsp;SPiNNER blijft in beweging – want stilstaan? Dat doen we niet.</p><p>Regie: Jeffry Seelen</p>
DESCRIPTION:<a href='/agenda/2026/4/19/jeugdtheater-spinner-speelt-robin-hood-het-wordt-nacht-in-nottingham-93503'>/agenda/2026/4/19/jeugdtheater-spinner-speelt-robin-hood-het-wordt-nacht-in-nottingham-93503</a> || <p>SPiNNER Robin Hood - Het wordt nacht in Nottingham</p><p>SPiNNER, jeugdtheater door jeugd, speelt maar liefst twee keer Robin Hood - Het wordt nacht in Nottingham, een verrassende, energieke voorstelling vol met actie, fantasie, spelplezier en spanning.&nbsp;SPiNNER blijft in beweging – want stilstaan? Dat doen we niet.</p><p>Regie: Jeffry Seelen</p>
LAST-MODIFIED:20260419T124337Z
LOCATION: De Eendracht | St.-Annastraat 60 Gemert
SEQUENCE:0
STATUS:CONFIRMED
SUMMARY:Jeugdtheater Spinner speelt Robin Hood: het wordt nacht in Nottingham
TRANSP:OPAQUE
END:VEVENT
END:VCALENDAR
