BEGIN:VCALENDAR
PRODID:-//PUBBLE//agenda//NL
VERSION:2.0
METHOD:PUBLISH
BEGIN:VEVENT
DTSTART:20260413T165235Z
DTEND:20260413T175235Z
DTSTAMP:20260419T123624Z
UID:50b270b7-6c21-42e1-bae6-107c1dca5a07
CREATED:20260419T123624Z
NAME:Jeugdtheater Spinner speelt Robin Hood: het wordt nacht in Nottingham gemertsnieuwsblad.nl
X-WR-CALNAME:Jeugdtheater Spinner speelt Robin Hood: het wordt nacht in Nottingham
X-ALT-DESC;FMTTYPE=text/html:<a href='/agenda/2026/4/19/jeugdtheater-spinner-speelt-robin-hood-het-wordt-nacht-in-nottingham-93504'>/agenda/2026/4/19/jeugdtheater-spinner-speelt-robin-hood-het-wordt-nacht-in-nottingham-93504</a> || <p>SPiNNER Robin Hood - Het wordt nacht in Nottingham</p><p>SPiNNER, jeugdtheater door jeugd, speelt maar liefst twee keer Robin Hood - Het wordt nacht in Nottingham, een verrassende, energieke voorstelling vol met actie, fantasie, spelplezier en spanning.&nbsp;SPiNNER blijft in beweging – want stilstaan? Dat doen we niet.</p><p>Regie: Jeffry Seelen</p>
DESCRIPTION:<a href='/agenda/2026/4/19/jeugdtheater-spinner-speelt-robin-hood-het-wordt-nacht-in-nottingham-93504'>/agenda/2026/4/19/jeugdtheater-spinner-speelt-robin-hood-het-wordt-nacht-in-nottingham-93504</a> || <p>SPiNNER Robin Hood - Het wordt nacht in Nottingham</p><p>SPiNNER, jeugdtheater door jeugd, speelt maar liefst twee keer Robin Hood - Het wordt nacht in Nottingham, een verrassende, energieke voorstelling vol met actie, fantasie, spelplezier en spanning.&nbsp;SPiNNER blijft in beweging – want stilstaan? Dat doen we niet.</p><p>Regie: Jeffry Seelen</p>
LAST-MODIFIED:20260419T123624Z
LOCATION: De Eendracht | St.-Annastraat 60 Gemert
SEQUENCE:0
STATUS:CONFIRMED
SUMMARY:Jeugdtheater Spinner speelt Robin Hood: het wordt nacht in Nottingham
TRANSP:OPAQUE
END:VEVENT
END:VCALENDAR
