BEGIN:VCALENDAR
PRODID:-//PUBBLE//agenda//NL
VERSION:2.0
METHOD:PUBLISH
BEGIN:VEVENT
DTSTART:20260413T165502Z
DTEND:20260413T175502Z
DTSTAMP:20260420T134748Z
UID:7df559b4-5ecf-4cca-892b-f6fd6f413f06
CREATED:20260420T134748Z
NAME:Avondcriterium in Bakel gemertsnieuwsblad.nl
X-WR-CALNAME:Avondcriterium in Bakel
X-ALT-DESC;FMTTYPE=text/html:<a href='/agenda/2026/4/22/avondcriterium-in-bakel-93506'>/agenda/2026/4/22/avondcriterium-in-bakel-93506</a> || <p><strong>BAKEL - Bakel is woensdag 22 april aan de beurt in het programma van Wielervereniging Amateursport Nederland (WVAN). Nadat de renners, amateurs en masters in De Mortel hun rondjes hebben gereden, komen ze bijeen in Bakel. Daar wordt de tweede wedstrijd op het programma van WVAN verreden.</strong></p><p>Er wordt gereden in twee categorieën: masters (40 jaar en ouder) samen met nieuwelingen en vrouwen en amateurs (tot en met 39 jaar) samen met junioren. De amateurs starten om 19.00 uur en rijden 62 km. De masters starten om 19.02 uur en rijden 50 km. Start en finish van het 4150 meter lange parkoers zijn gelegen aan het Zaarvlaas in Bakel. De renners zullen weer strijden voor de prijzen, maar ook voor de punten en de Piet Rooijmans Cup van het prestige klassement dat over alle avondcriteriums op de kalender van WVAN worden bijgehouden.</p><p>Om in te schrijven voor deze wedstrijd, kan men terecht op woensdag 22 april vanaf 18.00 uur op het parkoers aan de jurywagen. Een week later (29 april) vindt het criterium in Gemert plaats.</p>
DESCRIPTION:<a href='/agenda/2026/4/22/avondcriterium-in-bakel-93506'>/agenda/2026/4/22/avondcriterium-in-bakel-93506</a> || <p><strong>BAKEL - Bakel is woensdag 22 april aan de beurt in het programma van Wielervereniging Amateursport Nederland (WVAN). Nadat de renners, amateurs en masters in De Mortel hun rondjes hebben gereden, komen ze bijeen in Bakel. Daar wordt de tweede wedstrijd op het programma van WVAN verreden.</strong></p><p>Er wordt gereden in twee categorieën: masters (40 jaar en ouder) samen met nieuwelingen en vrouwen en amateurs (tot en met 39 jaar) samen met junioren. De amateurs starten om 19.00 uur en rijden 62 km. De masters starten om 19.02 uur en rijden 50 km. Start en finish van het 4150 meter lange parkoers zijn gelegen aan het Zaarvlaas in Bakel. De renners zullen weer strijden voor de prijzen, maar ook voor de punten en de Piet Rooijmans Cup van het prestige klassement dat over alle avondcriteriums op de kalender van WVAN worden bijgehouden.</p><p>Om in te schrijven voor deze wedstrijd, kan men terecht op woensdag 22 april vanaf 18.00 uur op het parkoers aan de jurywagen. Een week later (29 april) vindt het criterium in Gemert plaats.</p>
LAST-MODIFIED:20260420T134748Z
LOCATION: Zaarvlaas |   Bakel
SEQUENCE:0
STATUS:CONFIRMED
SUMMARY:Avondcriterium in Bakel
TRANSP:OPAQUE
END:VEVENT
END:VCALENDAR
