BEGIN:VCALENDAR
PRODID:-//PUBBLE//agenda//NL
VERSION:2.0
METHOD:PUBLISH
BEGIN:VEVENT
DTSTART:20260415T094431Z
DTEND:20260514T150000Z
DTSTAMP:20260420T002135Z
UID:a1b8696f-448d-4e91-93d1-85306eef4d8c
CREATED:20260420T002135Z
NAME:Adembenemende roofvogeldemonstraties gemertsnieuwsblad.nl
X-WR-CALNAME:Adembenemende roofvogeldemonstraties
X-ALT-DESC;FMTTYPE=text/html:<a href='/agenda/2026/5/14/adembenemende-roofvogeldemonstraties-93579'>/agenda/2026/5/14/adembenemende-roofvogeldemonstraties-93579</a> || <p>Bezoekers krijgen de unieke kans om de schoonheid en indrukwekkende vliegkunsten van diverse roofvogels en uilen van dichtbij te ervaren.</p><p>Het programma belooft een fascinerende kijk in het leven en de natuurlijke instincten van deze vogels, waaronder de imposante Amerikaanse zeearend die zijn kracht en behendigheid in de lucht zal tonen, en de intrigerende Falkland caracara, die zijn natuurlijke gedrag tentoon zal spreiden. Een van de hoogtepunten van de show is zonder twijfel de zwarte gier, die op een speelse manier “op zoek gaat” naar zweetvoeten in het publiek, een act die zowel humoristisch als leerzaam is en de aandacht vestigt op het unieke zintuiglijke vermogen van gieren.</p><p>Deze middag is geschikt voor bezoekers van alle leeftijden en biedt een unieke kijk op de fascinerende wereld van roofvogels.</p>
DESCRIPTION:<a href='/agenda/2026/5/14/adembenemende-roofvogeldemonstraties-93579'>/agenda/2026/5/14/adembenemende-roofvogeldemonstraties-93579</a> || <p>Bezoekers krijgen de unieke kans om de schoonheid en indrukwekkende vliegkunsten van diverse roofvogels en uilen van dichtbij te ervaren.</p><p>Het programma belooft een fascinerende kijk in het leven en de natuurlijke instincten van deze vogels, waaronder de imposante Amerikaanse zeearend die zijn kracht en behendigheid in de lucht zal tonen, en de intrigerende Falkland caracara, die zijn natuurlijke gedrag tentoon zal spreiden. Een van de hoogtepunten van de show is zonder twijfel de zwarte gier, die op een speelse manier “op zoek gaat” naar zweetvoeten in het publiek, een act die zowel humoristisch als leerzaam is en de aandacht vestigt op het unieke zintuiglijke vermogen van gieren.</p><p>Deze middag is geschikt voor bezoekers van alle leeftijden en biedt een unieke kijk op de fascinerende wereld van roofvogels.</p>
LAST-MODIFIED:20260420T002135Z
LOCATION: Boerenbondsmuseum | Pandelaar 106 Gemert
SEQUENCE:0
STATUS:CONFIRMED
SUMMARY:Adembenemende roofvogeldemonstraties
TRANSP:OPAQUE
END:VEVENT
END:VCALENDAR
