BEGIN:VCALENDAR
PRODID:-//PUBBLE//agenda//NL
VERSION:2.0
METHOD:PUBLISH
BEGIN:VEVENT
DTSTART:20260415T094551Z
DTEND:20260524T150000Z
DTSTAMP:20260420T001905Z
UID:f2611e84-f15a-4a91-be62-9816768ca6de
CREATED:20260420T001905Z
NAME:Wol- en schapendag gemertsnieuwsblad.nl
X-WR-CALNAME:Wol- en schapendag
X-ALT-DESC;FMTTYPE=text/html:<a href='/agenda/2026/5/2/wol-en-schapendag-93580'>/agenda/2026/5/2/wol-en-schapendag-93580</a> || <p>Veel schapen tijdens de jaarlijkse wol- en schapendag. Met schapendrijfdemonstraties van KoddeKudde. Een leerzame en gezellige dag voor jong en oud.</p><p>Het ambacht van de schapendrijver is een eeuwenoud beroep waarbij de herder verantwoordelijk is voor het hoeden en verzorgen van een kudde schapen. De grootte van een kudde kan sterk variëren: van enkele tientallen tot enkele honderden schapen. Schapenhonden spelen een cruciale rol in het werk van de schapendrijver.</p><p>KoddeKudde uit Weert geeft schapendrijfdemonstraties om een levend beeld te geven over dit ambacht. Kinderen kunnen lammetjes melk geven, knuffelen met schapendrijfhonden en spinnen en wol kaarden.</p><p>De wevers breien deze middag sokken met een antieke sokkenbreimachine. Buiten het breien op een sokkenmachine zal er ook breien, vilten en spinnen te zien zijn.</p><h3><i data-olk-copy-source="MessageBody">Programma:</i></h3><p>13u00 demonstratie scheren13u30 demonstratie schapendrijven14u00 fles geven lammeren14u30 demonstratie scheren15u00 demonstratie schapendrijven15u30 fles geven lammeren16u00 demonstratie scheren16u30 demonstratie schapendrijven</p>
DESCRIPTION:<a href='/agenda/2026/5/2/wol-en-schapendag-93580'>/agenda/2026/5/2/wol-en-schapendag-93580</a> || <p>Veel schapen tijdens de jaarlijkse wol- en schapendag. Met schapendrijfdemonstraties van KoddeKudde. Een leerzame en gezellige dag voor jong en oud.</p><p>Het ambacht van de schapendrijver is een eeuwenoud beroep waarbij de herder verantwoordelijk is voor het hoeden en verzorgen van een kudde schapen. De grootte van een kudde kan sterk variëren: van enkele tientallen tot enkele honderden schapen. Schapenhonden spelen een cruciale rol in het werk van de schapendrijver.</p><p>KoddeKudde uit Weert geeft schapendrijfdemonstraties om een levend beeld te geven over dit ambacht. Kinderen kunnen lammetjes melk geven, knuffelen met schapendrijfhonden en spinnen en wol kaarden.</p><p>De wevers breien deze middag sokken met een antieke sokkenbreimachine. Buiten het breien op een sokkenmachine zal er ook breien, vilten en spinnen te zien zijn.</p><h3><i data-olk-copy-source="MessageBody">Programma:</i></h3><p>13u00 demonstratie scheren13u30 demonstratie schapendrijven14u00 fles geven lammeren14u30 demonstratie scheren15u00 demonstratie schapendrijven15u30 fles geven lammeren16u00 demonstratie scheren16u30 demonstratie schapendrijven</p>
LAST-MODIFIED:20260420T001905Z
LOCATION: Boerenbondsmuseum | Pandelaar 106 Gemert
SEQUENCE:0
STATUS:CONFIRMED
SUMMARY:Wol- en schapendag
TRANSP:OPAQUE
END:VEVENT
END:VCALENDAR
