BEGIN:VCALENDAR
PRODID:-//PUBBLE//agenda//NL
VERSION:2.0
METHOD:PUBLISH
BEGIN:VEVENT
DTSTART:20260415T094747Z
DTEND:20260525T150000Z
DTSTAMP:20260420T001655Z
UID:02bc50c1-8486-4dcc-b0ee-49d2bf4067bf
CREATED:20260420T001655Z
NAME:Kampioenschap koe melken gemertsnieuwsblad.nl
X-WR-CALNAME:Kampioenschap koe melken
X-ALT-DESC;FMTTYPE=text/html:<a href='/agenda/2026/5/2/kampioenschap-koe-melken-93581'>/agenda/2026/5/2/kampioenschap-koe-melken-93581</a> || <p>Rond 1900 werd het melken van koeien volledig met de hand gedaan, een arbeidsintensief proces dat vaak bij dageraad begon. De boer of boerin, zittend op een krukje naast de koe, legde zijn of haar hoofd tegen de flank van het dier voor stabiliteit en ritme.</p><p>Melken moest zorgvuldig gebeuren om de koe niet te bezeren en de melkstroom efficiënt te houden. Gemiddeld leverde een koe per melkbeurt ongeveer 10 tot 20 liter melk op, afhankelijk van het ras en de gezondheid.</p><p>Als je het ziet, dan lijkt het heel eenvoudig. Maar het is moeilijker dan gedacht. Kom het zelf maar eens proberen. En als je het onder de knie hebt dan is het nog de kunst om de melk in de emmer te krijgen.</p><p>Groot en klein kan zich komen bewijzen en proberen om kampioen koe melken van het Boerenbondsmuseum te worden.</p>
DESCRIPTION:<a href='/agenda/2026/5/2/kampioenschap-koe-melken-93581'>/agenda/2026/5/2/kampioenschap-koe-melken-93581</a> || <p>Rond 1900 werd het melken van koeien volledig met de hand gedaan, een arbeidsintensief proces dat vaak bij dageraad begon. De boer of boerin, zittend op een krukje naast de koe, legde zijn of haar hoofd tegen de flank van het dier voor stabiliteit en ritme.</p><p>Melken moest zorgvuldig gebeuren om de koe niet te bezeren en de melkstroom efficiënt te houden. Gemiddeld leverde een koe per melkbeurt ongeveer 10 tot 20 liter melk op, afhankelijk van het ras en de gezondheid.</p><p>Als je het ziet, dan lijkt het heel eenvoudig. Maar het is moeilijker dan gedacht. Kom het zelf maar eens proberen. En als je het onder de knie hebt dan is het nog de kunst om de melk in de emmer te krijgen.</p><p>Groot en klein kan zich komen bewijzen en proberen om kampioen koe melken van het Boerenbondsmuseum te worden.</p>
LAST-MODIFIED:20260420T001655Z
LOCATION: Boerenbondsmuseum | Pandelaar 106 Gemert
SEQUENCE:0
STATUS:CONFIRMED
SUMMARY:Kampioenschap koe melken
TRANSP:OPAQUE
END:VEVENT
END:VCALENDAR
