BEGIN:VCALENDAR
PRODID:-//PUBBLE//agenda//NL
VERSION:2.0
METHOD:PUBLISH
BEGIN:VEVENT
DTSTART:20260415T094854Z
DTEND:20260531T150000Z
DTSTAMP:20260420T002824Z
UID:0c84ed98-c01a-4ec1-90ab-34130c36987f
CREATED:20260420T002824Z
NAME:Dag van het paard gemertsnieuwsblad.nl
X-WR-CALNAME:Dag van het paard
X-ALT-DESC;FMTTYPE=text/html:<a href='/agenda/2026/5/31/dag-van-het-paard-93582'>/agenda/2026/5/31/dag-van-het-paard-93582</a> || <p>Aan het begin van de 20e eeuw waren paarden van cruciaal belang voor boerenbedrijven. Zij vormden een essentieel onderdeel van het dagelijkse werk op het land en waren onmisbaar voor zowel veldwerk als transport.</p><p>Naast het ploegen en trekken van karren, werden paarden ook ingezet voor andere boerenactiviteiten.</p><p>Paarden waren niet alleen een krachtbron; ze waren ook partners en medewerkers op het boerenbedrijf, waarvan het welzijn en de verzorging hoog in het vaandel stonden. De overgang naar mechanisatie in de landbouw in de loop van de 20e eeuw verminderde uiteindelijk de afhankelijkheid van paarden in de landbouw, maar in het begin van die eeuw waren ze nog onmisbaar.</p><p>Het is dus meer dan terecht dat jaarlijks in het Boerenbondsmuseum dit edele dier tijdens een speciale paardendag extra in het zonnetje wordt gezet. Er zijn diverse rassen kleine en grote paarden aanwezig. De smid is aanwezig en toont demonstraties hoefsmeden. Met de huifkar, ponykar en op een vliegend tapijt kunnen ritjes gemaakt worden.</p>
DESCRIPTION:<a href='/agenda/2026/5/31/dag-van-het-paard-93582'>/agenda/2026/5/31/dag-van-het-paard-93582</a> || <p>Aan het begin van de 20e eeuw waren paarden van cruciaal belang voor boerenbedrijven. Zij vormden een essentieel onderdeel van het dagelijkse werk op het land en waren onmisbaar voor zowel veldwerk als transport.</p><p>Naast het ploegen en trekken van karren, werden paarden ook ingezet voor andere boerenactiviteiten.</p><p>Paarden waren niet alleen een krachtbron; ze waren ook partners en medewerkers op het boerenbedrijf, waarvan het welzijn en de verzorging hoog in het vaandel stonden. De overgang naar mechanisatie in de landbouw in de loop van de 20e eeuw verminderde uiteindelijk de afhankelijkheid van paarden in de landbouw, maar in het begin van die eeuw waren ze nog onmisbaar.</p><p>Het is dus meer dan terecht dat jaarlijks in het Boerenbondsmuseum dit edele dier tijdens een speciale paardendag extra in het zonnetje wordt gezet. Er zijn diverse rassen kleine en grote paarden aanwezig. De smid is aanwezig en toont demonstraties hoefsmeden. Met de huifkar, ponykar en op een vliegend tapijt kunnen ritjes gemaakt worden.</p>
LAST-MODIFIED:20260420T002824Z
LOCATION: Boerenbondsmuseum | Pandelaar 106 Gemert
SEQUENCE:0
STATUS:CONFIRMED
SUMMARY:Dag van het paard
TRANSP:OPAQUE
END:VEVENT
END:VCALENDAR
