BEGIN:VCALENDAR
PRODID:-//PUBBLE//agenda//NL
VERSION:2.0
METHOD:PUBLISH
BEGIN:VEVENT
DTSTART:20260415T095040Z
DTEND:20260614T150000Z
DTSTAMP:20260420T002201Z
UID:2672e636-f2ed-4b92-b599-60d82c04acb0
CREATED:20260420T002201Z
NAME:Veteranensportdag gemertsnieuwsblad.nl
X-WR-CALNAME:Veteranensportdag
X-ALT-DESC;FMTTYPE=text/html:<a href='/agenda/2026/6/14/veteranensportdag-93584'>/agenda/2026/6/14/veteranensportdag-93584</a> || <p>Gekleed in authentieke kleding voeren zij indrukwekkende demonstraties uit, zoals piramidebouwen, vrije oefeningen en gecombineerde groepsoptredens.</p><p>Tijdens dit evenement herleven tientallen dames en heren uit onder andere Heythuysen, Liessel, Uden, Elsendorp en De Mortel de sporttradities van weleer.</p><p>Deelnemers, waarvan sommigen de tachtig al zijn gepasseerd, tonen dat leeftijd geen belemmering is voor beweging en plezier. De Veteranensportdag staat niet alleen in het teken van sport, maar ook van saamhorigheid en het ophalen van herinneringen aan de hoogtijdagen van de Jonge Boerenstand.</p>
DESCRIPTION:<a href='/agenda/2026/6/14/veteranensportdag-93584'>/agenda/2026/6/14/veteranensportdag-93584</a> || <p>Gekleed in authentieke kleding voeren zij indrukwekkende demonstraties uit, zoals piramidebouwen, vrije oefeningen en gecombineerde groepsoptredens.</p><p>Tijdens dit evenement herleven tientallen dames en heren uit onder andere Heythuysen, Liessel, Uden, Elsendorp en De Mortel de sporttradities van weleer.</p><p>Deelnemers, waarvan sommigen de tachtig al zijn gepasseerd, tonen dat leeftijd geen belemmering is voor beweging en plezier. De Veteranensportdag staat niet alleen in het teken van sport, maar ook van saamhorigheid en het ophalen van herinneringen aan de hoogtijdagen van de Jonge Boerenstand.</p>
LAST-MODIFIED:20260420T002201Z
LOCATION: Boerenbondsmuseum | Pandelaar 106 Gemert
SEQUENCE:0
STATUS:CONFIRMED
SUMMARY:Veteranensportdag
TRANSP:OPAQUE
END:VEVENT
END:VCALENDAR
