BEGIN:VCALENDAR
PRODID:-//PUBBLE//agenda//NL
VERSION:2.0
METHOD:PUBLISH
BEGIN:VEVENT
DTSTART:20260415T095204Z
DTEND:20260628T180000Z
DTSTAMP:20260420T002448Z
UID:82b04629-9935-4692-b46c-530a2fee7b6f
CREATED:20260420T002448Z
NAME:Volendam van het Zuiden gemertsnieuwsblad.nl
X-WR-CALNAME:Volendam van het Zuiden
X-ALT-DESC;FMTTYPE=text/html:<a href='/agenda/2026/6/28/volendam-van-het-zuiden-93585'>/agenda/2026/6/28/volendam-van-het-zuiden-93585</a> || <p>Jaarlijks muziekfestijn op het dorpsplein van het museum met lokale, regionale en (inter)nationale artiesten.</p><p>Entree: 15,00 euro. Reguliere entreetickets en jaarkaarten van het museum zijn deze dag niet geldig.</p>
DESCRIPTION:<a href='/agenda/2026/6/28/volendam-van-het-zuiden-93585'>/agenda/2026/6/28/volendam-van-het-zuiden-93585</a> || <p>Jaarlijks muziekfestijn op het dorpsplein van het museum met lokale, regionale en (inter)nationale artiesten.</p><p>Entree: 15,00 euro. Reguliere entreetickets en jaarkaarten van het museum zijn deze dag niet geldig.</p>
LAST-MODIFIED:20260420T002448Z
LOCATION: Boerenbondsmuseum | Pandelaar 106 Gemert
SEQUENCE:0
STATUS:CONFIRMED
SUMMARY:Volendam van het Zuiden
TRANSP:OPAQUE
END:VEVENT
END:VCALENDAR
