BEGIN:VCALENDAR
PRODID:-//PUBBLE//agenda//NL
VERSION:2.0
METHOD:PUBLISH
BEGIN:VEVENT
DTSTART:20260415T095332Z
DTEND:20260705T150000Z
DTSTAMP:20260420T001504Z
UID:90f6f05b-8de1-4cc3-9034-5911b841c572
CREATED:20260420T001504Z
NAME:Bijendag gemertsnieuwsblad.nl
X-WR-CALNAME:Bijendag
X-ALT-DESC;FMTTYPE=text/html:<a href='/agenda/2026/7/5/bijendag-93586'>/agenda/2026/7/5/bijendag-93586</a> || <p><span data-contrast="none">Ontdek de cruciale rol van bijen en ervaar het imkerleven. Leer kaarsen maken, proef verse honing en zie hoe imkers zorgen voor deze onmisbare insecten.</span></p><p><span data-contrast="none">Zonder bijen zou er geen leven op aarde mogelijk zijn. Bijen en andere bestuivende insecten zijn ontzettend belangrijk voor alles wat groeit en bloeit. Bijen die door een imker gehouden worden zorgen ook nog eens voor lekkere honing en andere producten.</span><span data-ccp-props="{&quot;134245418&quot;:true,&quot;134245529&quot;:true}">&nbsp;</span></p><p><span data-contrast="none">Hoe een imker bijen houdt en wat hij er allemaal voor moet doen, kun je komen bekijken bij het Boerenbondsmuseum. Kinderen mogen kaarsjes maken van bijenwas.</span></p>
DESCRIPTION:<a href='/agenda/2026/7/5/bijendag-93586'>/agenda/2026/7/5/bijendag-93586</a> || <p><span data-contrast="none">Ontdek de cruciale rol van bijen en ervaar het imkerleven. Leer kaarsen maken, proef verse honing en zie hoe imkers zorgen voor deze onmisbare insecten.</span></p><p><span data-contrast="none">Zonder bijen zou er geen leven op aarde mogelijk zijn. Bijen en andere bestuivende insecten zijn ontzettend belangrijk voor alles wat groeit en bloeit. Bijen die door een imker gehouden worden zorgen ook nog eens voor lekkere honing en andere producten.</span><span data-ccp-props="{&quot;134245418&quot;:true,&quot;134245529&quot;:true}">&nbsp;</span></p><p><span data-contrast="none">Hoe een imker bijen houdt en wat hij er allemaal voor moet doen, kun je komen bekijken bij het Boerenbondsmuseum. Kinderen mogen kaarsjes maken van bijenwas.</span></p>
LAST-MODIFIED:20260420T001504Z
LOCATION: Boerenbondsmuseum | Pandelaar 106 Gemert
SEQUENCE:0
STATUS:CONFIRMED
SUMMARY:Bijendag
TRANSP:OPAQUE
END:VEVENT
END:VCALENDAR
