BEGIN:VCALENDAR
PRODID:-//PUBBLE//agenda//NL
VERSION:2.0
METHOD:PUBLISH
BEGIN:VEVENT
DTSTART:20260415T095439Z
DTEND:20260713T180000Z
DTSTAMP:20260420T002511Z
UID:8c3d7328-bf63-4ad1-8d04-2faad4c1d3a4
CREATED:20260420T002511Z
NAME:Nostalgische Kermis gemertsnieuwsblad.nl
X-WR-CALNAME:Nostalgische Kermis
X-ALT-DESC;FMTTYPE=text/html:<a href='/agenda/2026/7/11/nostalgische-kermis-93587'>/agenda/2026/7/11/nostalgische-kermis-93587</a> || <p><strong>Beleef ouderwets kermisplezier tijdens de jaarlijkse Nostalgische Kermis. Drie dagen lang kunnen bezoekers genieten van een sfeervolle kermis vol authentieke attracties, lekkernijen en gezelligheid voor jong en oud.</strong></p><p><span data-contrast="none">Bezoekers kunnen zich verheugen op een breed scala aan klassieke attracties zoals de zweefmolen, luchtschommels, draaimolen, kop van Jut, grabbelton, eendjes vangen, touwtje trekken, buksschieten en&nbsp;muizenmep. Voor de allerkleinsten draait de vertrouwde paardjescarrousel haar rondjes. Attractiebonnetjes&nbsp;kosten&nbsp;€ 0,20 per stuk (1 bonnetje per attractie)</span><span data-ccp-props="{&quot;134233117&quot;:false,&quot;134233118&quot;:false,&quot;201341983&quot;:0,&quot;335551550&quot;:1,&quot;335551620&quot;:1,&quot;335559685&quot;:0,&quot;335559737&quot;:0,&quot;335559738&quot;:0,&quot;335559739&quot;:160,&quot;335559740&quot;:259}">&nbsp;</span></p><p><span data-contrast="none">Bij veel attracties zijn leuke prijsjes te winnen of waardepunten te verzamelen, die ingewisseld kunnen worden in de prijzenhoek. Ook het populaire Rad van Avontuur ontbreekt niet. De nostalgische sfeer wordt compleet gemaakt door de aanwezigheid van de ‘veldwachter’, die een oogje in het zeil houdt.</span><span data-ccp-props="{&quot;134233117&quot;:false,&quot;134233118&quot;:false,&quot;201341983&quot;:0,&quot;335551550&quot;:1,&quot;335551620&quot;:1,&quot;335559685&quot;:0,&quot;335559737&quot;:0,&quot;335559738&quot;:0,&quot;335559739&quot;:160,&quot;335559740&quot;:259}">&nbsp;</span></p><p><span data-contrast="none">Voor een smakelijke pauze kunnen bezoekers terecht in Hove&nbsp;Vogelsanck&nbsp;of op het gezellige terras. Hier worden onder andere verse oliebollen, hamburgers, pannenkoeken, popcorn en suikerspinnen geserveerd. Allemaal met liefde bereid door het horecateam.</span><span data-ccp-props="{&quot;134233117&quot;:false,&quot;134233118&quot;:false,&quot;201341983&quot;:0,&quot;335551550&quot;:1,&quot;335551620&quot;:1,&quot;335559685&quot;:0,&quot;335559737&quot;:0,&quot;335559738&quot;:0,&quot;335559739&quot;:160,&quot;335559740&quot;:259}">&nbsp;</span></p><p><span data-ccp-props="{&quot;134233117&quot;:false,&quot;134233118&quot;:false,&quot;201341983&quot;:0,&quot;335551550&quot;:1,&quot;335551620&quot;:1,&quot;335559685&quot;:0,&quot;335559737&quot;:0,&quot;335559738&quot;:0,&quot;335559739&quot;:160,&quot;335559740&quot;:259}">Let op: tijdens deze drie dagen zijn de museumgebouwen GESLOTEN!</span></p>
DESCRIPTION:<a href='/agenda/2026/7/11/nostalgische-kermis-93587'>/agenda/2026/7/11/nostalgische-kermis-93587</a> || <p><strong>Beleef ouderwets kermisplezier tijdens de jaarlijkse Nostalgische Kermis. Drie dagen lang kunnen bezoekers genieten van een sfeervolle kermis vol authentieke attracties, lekkernijen en gezelligheid voor jong en oud.</strong></p><p><span data-contrast="none">Bezoekers kunnen zich verheugen op een breed scala aan klassieke attracties zoals de zweefmolen, luchtschommels, draaimolen, kop van Jut, grabbelton, eendjes vangen, touwtje trekken, buksschieten en&nbsp;muizenmep. Voor de allerkleinsten draait de vertrouwde paardjescarrousel haar rondjes. Attractiebonnetjes&nbsp;kosten&nbsp;€ 0,20 per stuk (1 bonnetje per attractie)</span><span data-ccp-props="{&quot;134233117&quot;:false,&quot;134233118&quot;:false,&quot;201341983&quot;:0,&quot;335551550&quot;:1,&quot;335551620&quot;:1,&quot;335559685&quot;:0,&quot;335559737&quot;:0,&quot;335559738&quot;:0,&quot;335559739&quot;:160,&quot;335559740&quot;:259}">&nbsp;</span></p><p><span data-contrast="none">Bij veel attracties zijn leuke prijsjes te winnen of waardepunten te verzamelen, die ingewisseld kunnen worden in de prijzenhoek. Ook het populaire Rad van Avontuur ontbreekt niet. De nostalgische sfeer wordt compleet gemaakt door de aanwezigheid van de ‘veldwachter’, die een oogje in het zeil houdt.</span><span data-ccp-props="{&quot;134233117&quot;:false,&quot;134233118&quot;:false,&quot;201341983&quot;:0,&quot;335551550&quot;:1,&quot;335551620&quot;:1,&quot;335559685&quot;:0,&quot;335559737&quot;:0,&quot;335559738&quot;:0,&quot;335559739&quot;:160,&quot;335559740&quot;:259}">&nbsp;</span></p><p><span data-contrast="none">Voor een smakelijke pauze kunnen bezoekers terecht in Hove&nbsp;Vogelsanck&nbsp;of op het gezellige terras. Hier worden onder andere verse oliebollen, hamburgers, pannenkoeken, popcorn en suikerspinnen geserveerd. Allemaal met liefde bereid door het horecateam.</span><span data-ccp-props="{&quot;134233117&quot;:false,&quot;134233118&quot;:false,&quot;201341983&quot;:0,&quot;335551550&quot;:1,&quot;335551620&quot;:1,&quot;335559685&quot;:0,&quot;335559737&quot;:0,&quot;335559738&quot;:0,&quot;335559739&quot;:160,&quot;335559740&quot;:259}">&nbsp;</span></p><p><span data-ccp-props="{&quot;134233117&quot;:false,&quot;134233118&quot;:false,&quot;201341983&quot;:0,&quot;335551550&quot;:1,&quot;335551620&quot;:1,&quot;335559685&quot;:0,&quot;335559737&quot;:0,&quot;335559738&quot;:0,&quot;335559739&quot;:160,&quot;335559740&quot;:259}">Let op: tijdens deze drie dagen zijn de museumgebouwen GESLOTEN!</span></p>
LAST-MODIFIED:20260420T002511Z
LOCATION: Boerenbondsmuseum | Pandelaar 106 Gemert
SEQUENCE:0
STATUS:CONFIRMED
SUMMARY:Nostalgische Kermis
TRANSP:OPAQUE
END:VEVENT
END:VCALENDAR
