BEGIN:VCALENDAR
PRODID:-//PUBBLE//agenda//NL
VERSION:2.0
METHOD:PUBLISH
BEGIN:VEVENT
DTSTART:20260415T095623Z
DTEND:20260726T150000Z
DTSTAMP:20260420T003024Z
UID:a8c28070-d954-4d01-950b-72e5eba89db7
CREATED:20260420T003024Z
NAME:Draaiorgels bij Boerenbondsmuseum gemertsnieuwsblad.nl
X-WR-CALNAME:Draaiorgels bij Boerenbondsmuseum
X-ALT-DESC;FMTTYPE=text/html:<a href='/agenda/2026/7/26/draaiorgels-bij-boerenbondsmuseum-93588'>/agenda/2026/7/26/draaiorgels-bij-boerenbondsmuseum-93588</a> || <p>Een muzikale zondag vol nostalgie. Tijdens deze bijzondere middag staan draaiorgels centraal: kleurrijke, mechanische muziekdozen die al generaties lang het straatbeeld opvrolijken met hun vrolijke klanken.</p><p><span data-contrast="none" lang="NL-NL">Bezoekers kunnen genieten van een indrukwekkende verzameling draaiorgels, elk met hun eigen karakter en geluid. Deze iconische instrumenten, aangedreven door handwielen en geperforeerde muziekrollen, zijn niet alleen een lust voor het oor, maar ook een feest voor het oog. Ze vormen een levend stukje cultureel erfgoed dat jong en oud blijft betoveren.</span><span data-ccp-props="{&quot;134245418&quot;:true,&quot;134245529&quot;:true}">&nbsp;</span></p>
DESCRIPTION:<a href='/agenda/2026/7/26/draaiorgels-bij-boerenbondsmuseum-93588'>/agenda/2026/7/26/draaiorgels-bij-boerenbondsmuseum-93588</a> || <p>Een muzikale zondag vol nostalgie. Tijdens deze bijzondere middag staan draaiorgels centraal: kleurrijke, mechanische muziekdozen die al generaties lang het straatbeeld opvrolijken met hun vrolijke klanken.</p><p><span data-contrast="none" lang="NL-NL">Bezoekers kunnen genieten van een indrukwekkende verzameling draaiorgels, elk met hun eigen karakter en geluid. Deze iconische instrumenten, aangedreven door handwielen en geperforeerde muziekrollen, zijn niet alleen een lust voor het oor, maar ook een feest voor het oog. Ze vormen een levend stukje cultureel erfgoed dat jong en oud blijft betoveren.</span><span data-ccp-props="{&quot;134245418&quot;:true,&quot;134245529&quot;:true}">&nbsp;</span></p>
LAST-MODIFIED:20260420T003024Z
LOCATION: Boerenbondsmuseum | Pandelaar 106 Gemert
SEQUENCE:0
STATUS:CONFIRMED
SUMMARY:Draaiorgels bij Boerenbondsmuseum
TRANSP:OPAQUE
END:VEVENT
END:VCALENDAR
