BEGIN:VCALENDAR
PRODID:-//PUBBLE//agenda//NL
VERSION:2.0
METHOD:PUBLISH
BEGIN:VEVENT
DTSTART:20260415T095739Z
DTEND:20260802T150000Z
DTSTAMP:20260420T002618Z
UID:583ff8d6-617d-4ea9-b118-f2c6c8d23e66
CREATED:20260420T002618Z
NAME:Brabantse Oogstdag gemertsnieuwsblad.nl
X-WR-CALNAME:Brabantse Oogstdag
X-ALT-DESC;FMTTYPE=text/html:<a href='/agenda/2026/8/2/brabantse-oogstdag-93589'>/agenda/2026/8/2/brabantse-oogstdag-93589</a> || <p>Beleef de oogst zoals vroeger. Een levendige en leerzame dag voor jong en oud, waarop bezoekers zelf kunnen ervaren hoe de oogst er honderd jaar geleden aan toe ging. Kom kijken, proeven, luisteren en vooral beleven!</p><p><span data-ccp-charstyle="Kop 1 Char">Tijdens de&nbsp;</span><span data-ccp-charstyle="Kop 1 Char">oogstdag</span><span data-ccp-charstyle="Kop 1 Char">&nbsp;wordt er weer geoogst met handkracht en de hulp van het paard. Deze&nbsp;</span><span data-ccp-charstyle="Kop 1 Char">oogstdag</span><span data-ccp-charstyle="Kop 1 Char">&nbsp;trekt elk jaar veel bekijks. U kunt zien hoe er een mijt gezet wordt en er wordt koren onder de&nbsp;</span><span data-ccp-charstyle="Kop 1 Char">hooikap</span><span data-ccp-charstyle="Kop 1 Char">&nbsp;opgetast. Dat is hard werken, maar de vrouwen kwamen tussendoor ook wel langs met eten en drinken, en dat doen wij ook. Kom de sfeer van zo’n&nbsp;</span><span data-ccp-charstyle="Kop 1 Char">oogstdag</span><span data-ccp-charstyle="Kop 1 Char">&nbsp;zelf maar proeven!</span></p>
DESCRIPTION:<a href='/agenda/2026/8/2/brabantse-oogstdag-93589'>/agenda/2026/8/2/brabantse-oogstdag-93589</a> || <p>Beleef de oogst zoals vroeger. Een levendige en leerzame dag voor jong en oud, waarop bezoekers zelf kunnen ervaren hoe de oogst er honderd jaar geleden aan toe ging. Kom kijken, proeven, luisteren en vooral beleven!</p><p><span data-ccp-charstyle="Kop 1 Char">Tijdens de&nbsp;</span><span data-ccp-charstyle="Kop 1 Char">oogstdag</span><span data-ccp-charstyle="Kop 1 Char">&nbsp;wordt er weer geoogst met handkracht en de hulp van het paard. Deze&nbsp;</span><span data-ccp-charstyle="Kop 1 Char">oogstdag</span><span data-ccp-charstyle="Kop 1 Char">&nbsp;trekt elk jaar veel bekijks. U kunt zien hoe er een mijt gezet wordt en er wordt koren onder de&nbsp;</span><span data-ccp-charstyle="Kop 1 Char">hooikap</span><span data-ccp-charstyle="Kop 1 Char">&nbsp;opgetast. Dat is hard werken, maar de vrouwen kwamen tussendoor ook wel langs met eten en drinken, en dat doen wij ook. Kom de sfeer van zo’n&nbsp;</span><span data-ccp-charstyle="Kop 1 Char">oogstdag</span><span data-ccp-charstyle="Kop 1 Char">&nbsp;zelf maar proeven!</span></p>
LAST-MODIFIED:20260420T002618Z
LOCATION: Boerenbondsmuseum | Pandelaar 106 Gemert
SEQUENCE:0
STATUS:CONFIRMED
SUMMARY:Brabantse Oogstdag
TRANSP:OPAQUE
END:VEVENT
END:VCALENDAR
