BEGIN:VCALENDAR
PRODID:-//PUBBLE//agenda//NL
VERSION:2.0
METHOD:PUBLISH
BEGIN:VEVENT
DTSTART:20260415T095902Z
DTEND:20260809T150000Z
DTSTAMP:20260420T002059Z
UID:18f2b207-cbc9-44c3-9892-46a7d8f3f386
CREATED:20260420T002059Z
NAME:Vlechtdag gemertsnieuwsblad.nl
X-WR-CALNAME:Vlechtdag
X-ALT-DESC;FMTTYPE=text/html:<a href='/agenda/2026/8/9/vlechtdag-93590'>/agenda/2026/8/9/vlechtdag-93590</a> || <p>Mandenvlechten – of mandenmaken – was aan het begin van de vorige eeuw een vertrouwd beeld in dorpen en op markten. De mandenmaker trok met handkar of te voet door de streek, beladen met een toren van vlechtwerk: van boodschappen- en broodmanden tot stevige oogstmanden voor op het land. Het materiaal – vaak soepel en sterk geworden wilgentenen – werd lokaal geoogst en met vakmanschap verwerkt tot producten die zowel functioneel als mooi waren.</p><p>Ook het ambacht van de stoelenmatter, gespecialiseerd in het herstellen en maken van stoelen met gevlochten zittingen en rugleuningen, kent een lange geschiedenis. Met natuurlijke materialen als rotan, riet en zeegras werden meubels weer tot leven gewekt.</p>
DESCRIPTION:<a href='/agenda/2026/8/9/vlechtdag-93590'>/agenda/2026/8/9/vlechtdag-93590</a> || <p>Mandenvlechten – of mandenmaken – was aan het begin van de vorige eeuw een vertrouwd beeld in dorpen en op markten. De mandenmaker trok met handkar of te voet door de streek, beladen met een toren van vlechtwerk: van boodschappen- en broodmanden tot stevige oogstmanden voor op het land. Het materiaal – vaak soepel en sterk geworden wilgentenen – werd lokaal geoogst en met vakmanschap verwerkt tot producten die zowel functioneel als mooi waren.</p><p>Ook het ambacht van de stoelenmatter, gespecialiseerd in het herstellen en maken van stoelen met gevlochten zittingen en rugleuningen, kent een lange geschiedenis. Met natuurlijke materialen als rotan, riet en zeegras werden meubels weer tot leven gewekt.</p>
LAST-MODIFIED:20260420T002059Z
LOCATION: Boerenbondsmuseum | Pandelaar 106 Gemert
SEQUENCE:0
STATUS:CONFIRMED
SUMMARY:Vlechtdag
TRANSP:OPAQUE
END:VEVENT
END:VCALENDAR
