BEGIN:VCALENDAR
PRODID:-//PUBBLE//agenda//NL
VERSION:2.0
METHOD:PUBLISH
BEGIN:VEVENT
DTSTART:20260415T095949Z
DTEND:20260816T150000Z
DTSTAMP:20260420T001224Z
UID:23695dec-a826-4d1b-8a5a-8b26b3c85d4e
CREATED:20260420T001224Z
NAME:Nationale landgeitenkeuring gemertsnieuwsblad.nl
X-WR-CALNAME:Nationale landgeitenkeuring
X-ALT-DESC;FMTTYPE=text/html:<a href='/agenda/2026/8/16/nationale-landgeitenkeuring-93591'>/agenda/2026/8/16/nationale-landgeitenkeuring-93591</a> || <p>Kom kijken naar het prachtige landgeitenras, een oud Nederlands geitenras. Op deze dag worden de geiten gekeurd en rijdt er een geitenkar rond over het museumterrein. De keuring wordt georganiseerd door de Landelijke Fokkersclub afdeling Zuid.</p><p>Vanaf 11.00 uur staan de geiten en bokken in de rij om zich te laten keuren, zodat ze goedgekeurd aan de fokkerij deel kunnen nemen. Ieder jaar opnieuw wordt door keurmeesters gekeken of ze voldoen aan de kenmerken die een landgeit hoort te hebben. Kom gerust een kijkje nemen bij deze keuring</p>
DESCRIPTION:<a href='/agenda/2026/8/16/nationale-landgeitenkeuring-93591'>/agenda/2026/8/16/nationale-landgeitenkeuring-93591</a> || <p>Kom kijken naar het prachtige landgeitenras, een oud Nederlands geitenras. Op deze dag worden de geiten gekeurd en rijdt er een geitenkar rond over het museumterrein. De keuring wordt georganiseerd door de Landelijke Fokkersclub afdeling Zuid.</p><p>Vanaf 11.00 uur staan de geiten en bokken in de rij om zich te laten keuren, zodat ze goedgekeurd aan de fokkerij deel kunnen nemen. Ieder jaar opnieuw wordt door keurmeesters gekeken of ze voldoen aan de kenmerken die een landgeit hoort te hebben. Kom gerust een kijkje nemen bij deze keuring</p>
LAST-MODIFIED:20260420T001224Z
LOCATION: Boerenbondsmuseum | Pandelaar 106 Gemert
SEQUENCE:0
STATUS:CONFIRMED
SUMMARY:Nationale landgeitenkeuring
TRANSP:OPAQUE
END:VEVENT
END:VCALENDAR
