BEGIN:VCALENDAR
PRODID:-//PUBBLE//agenda//NL
VERSION:2.0
METHOD:PUBLISH
BEGIN:VEVENT
DTSTART:20260415T100052Z
DTEND:20260830T150000Z
DTSTAMP:20260420T002448Z
UID:648e538e-f3f0-4259-abff-fbbb7c4f53d4
CREATED:20260420T002448Z
NAME:Dag van oude ambachten gemertsnieuwsblad.nl
X-WR-CALNAME:Dag van oude ambachten
X-ALT-DESC;FMTTYPE=text/html:<a href='/agenda/2026/8/30/dag-van-oude-ambachten-93592'>/agenda/2026/8/30/dag-van-oude-ambachten-93592</a> || <p>Gedurende deze dag zullen in alle gebouwen van ons museum diverse oude ambachten tot leven worden gebracht door onze enthousiaste vrijwilligers. Bezoekers krijgen de kans om kennis te maken met dorpsbewoners uit een typisch Peeldorp rond 1900. Ontmoet de veldwachter, de pastoor, boeren, boerinnen, schoolgaande kinderen en straatmuzikanten, die allen de historische sfeer verder zullen versterken.</p>
DESCRIPTION:<a href='/agenda/2026/8/30/dag-van-oude-ambachten-93592'>/agenda/2026/8/30/dag-van-oude-ambachten-93592</a> || <p>Gedurende deze dag zullen in alle gebouwen van ons museum diverse oude ambachten tot leven worden gebracht door onze enthousiaste vrijwilligers. Bezoekers krijgen de kans om kennis te maken met dorpsbewoners uit een typisch Peeldorp rond 1900. Ontmoet de veldwachter, de pastoor, boeren, boerinnen, schoolgaande kinderen en straatmuzikanten, die allen de historische sfeer verder zullen versterken.</p>
LAST-MODIFIED:20260420T002448Z
LOCATION: Boerenbondsmuseum | Pandelaar 106 Gemert
SEQUENCE:0
STATUS:CONFIRMED
SUMMARY:Dag van oude ambachten
TRANSP:OPAQUE
END:VEVENT
END:VCALENDAR
