BEGIN:VCALENDAR
PRODID:-//PUBBLE//agenda//NL
VERSION:2.0
METHOD:PUBLISH
BEGIN:VEVENT
DTSTART:20260415T100244Z
DTEND:20260913T150000Z
DTSTAMP:20260420T001655Z
UID:9756ba6e-0f38-40f8-b37c-cc17604d2260
CREATED:20260420T001655Z
NAME:Ervaar een schooldag rond 1900 gemertsnieuwsblad.nl
X-WR-CALNAME:Ervaar een schooldag rond 1900
X-ALT-DESC;FMTTYPE=text/html:<a href='/agenda/2026/9/13/ervaar-een-schooldag-rond-1900-93593'>/agenda/2026/9/13/ervaar-een-schooldag-rond-1900-93593</a> || <p>Ga terug in de tijd in het Boerenbondsmuseum, neem plaats in oude schoolbanken en ervaar hoe lesgeven rond 1900 ging. Op het schoolplein kunt u klassieke kinderspelen zoals hinkelen, repen, steltlopen en steppen uitproberen.</p><p>U krijgt in het prachtige schoolgebouw les zoals dat vroeger ging. Begin 1900 was het basisonderwijs heel anders dan het onderwijs dat we nu kennen.</p>
DESCRIPTION:<a href='/agenda/2026/9/13/ervaar-een-schooldag-rond-1900-93593'>/agenda/2026/9/13/ervaar-een-schooldag-rond-1900-93593</a> || <p>Ga terug in de tijd in het Boerenbondsmuseum, neem plaats in oude schoolbanken en ervaar hoe lesgeven rond 1900 ging. Op het schoolplein kunt u klassieke kinderspelen zoals hinkelen, repen, steltlopen en steppen uitproberen.</p><p>U krijgt in het prachtige schoolgebouw les zoals dat vroeger ging. Begin 1900 was het basisonderwijs heel anders dan het onderwijs dat we nu kennen.</p>
LAST-MODIFIED:20260420T001655Z
LOCATION: Boerenbondsmuseum | Pandelaar 106 Gemert
SEQUENCE:0
STATUS:CONFIRMED
SUMMARY:Ervaar een schooldag rond 1900
TRANSP:OPAQUE
END:VEVENT
END:VCALENDAR
