BEGIN:VCALENDAR
PRODID:-//PUBBLE//agenda//NL
VERSION:2.0
METHOD:PUBLISH
BEGIN:VEVENT
DTSTART:20260415T101658Z
DTEND:20260927T150000Z
DTSTAMP:20260420T002941Z
UID:2c9a4037-769f-4691-9648-8e241522136c
CREATED:20260420T002941Z
NAME:Dag van de smid gemertsnieuwsblad.nl
X-WR-CALNAME:Dag van de smid
X-ALT-DESC;FMTTYPE=text/html:<a href='/agenda/2026/9/27/dag-van-de-smid-93595'>/agenda/2026/9/27/dag-van-de-smid-93595</a> || <p>Kom en bekijk het noeste ambacht van de smid. De smeden van het Boerenbondsmuseum geven demonstraties en laten de fijne kneepjes van het vak zien.</p><p>Tussen 1900 en 1940 was de smid onmisbaar, vooral in landelijke gebieden waar technologische en industriële vooruitgang trager doordrongen dan in stedelijke centra. Deze ambachtsman vervaardigde en repareerde essentiële gereedschappen en voorwerpen zoals landbouwwerktuigen en hoefijzers, die cruciaal waren voor dagelijkse activiteiten en de lokale economie.</p><p>De smidse, met zijn kenmerkende smidsvuur en stevige gereedschappen, was het hart van zowel het economische als het sociale leven in het dorp. Hier werd ijzer gesmeed op een aambeeld, waarbij het metaal werd verhit tot het kneedbaar werd en vervolgens in de gewenste vorm werd geslagen met hamer en aambeeld.</p>
DESCRIPTION:<a href='/agenda/2026/9/27/dag-van-de-smid-93595'>/agenda/2026/9/27/dag-van-de-smid-93595</a> || <p>Kom en bekijk het noeste ambacht van de smid. De smeden van het Boerenbondsmuseum geven demonstraties en laten de fijne kneepjes van het vak zien.</p><p>Tussen 1900 en 1940 was de smid onmisbaar, vooral in landelijke gebieden waar technologische en industriële vooruitgang trager doordrongen dan in stedelijke centra. Deze ambachtsman vervaardigde en repareerde essentiële gereedschappen en voorwerpen zoals landbouwwerktuigen en hoefijzers, die cruciaal waren voor dagelijkse activiteiten en de lokale economie.</p><p>De smidse, met zijn kenmerkende smidsvuur en stevige gereedschappen, was het hart van zowel het economische als het sociale leven in het dorp. Hier werd ijzer gesmeed op een aambeeld, waarbij het metaal werd verhit tot het kneedbaar werd en vervolgens in de gewenste vorm werd geslagen met hamer en aambeeld.</p>
LAST-MODIFIED:20260420T002941Z
LOCATION: Boerenbondsmuseum | Pandelaar 106 Gemert
SEQUENCE:0
STATUS:CONFIRMED
SUMMARY:Dag van de smid
TRANSP:OPAQUE
END:VEVENT
END:VCALENDAR
