BEGIN:VCALENDAR
PRODID:-//PUBBLE//agenda//NL
VERSION:2.0
METHOD:PUBLISH
BEGIN:VEVENT
DTSTART:20260415T101800Z
DTEND:20261101T150000Z
DTSTAMP:20260420T000902Z
UID:8398c4fa-7df8-4586-b1c1-a04a4cad1e55
CREATED:20260420T000902Z
NAME:Traditionele slachtdag gemertsnieuwsblad.nl
X-WR-CALNAME:Traditionele slachtdag
X-ALT-DESC;FMTTYPE=text/html:<a href='/agenda/2026/11/1/traditionele-slachtdag-93596'>/agenda/2026/11/1/traditionele-slachtdag-93596</a> || <p>Ervaar de slachtdagtraditie uit begin 1900 bij het Boerenbondsmuseum! Ontdek hoe de gemeenschap vroeger samenkwam voor deze belangrijke dag. Proef historische gerechten zoals verse worst en balkenbrij en er is ook weer volop vlees verkrijgbaar.</p><p>Deze dag biedt een unieke blik op het boerenleven begin 1900 en houdt een belangrijke agrarische traditie in ere.</p><p>Bij het Boerenbondsmuseum wordt deze traditie voortgezet. Tijdens de slachtdag worden niet alleen de methoden en gebruiken van weleer toont, maar krijgen bezoekers ook de gelegenheid om historische gerechten te proeven die met deze oude technieken zijn bereid.&nbsp;Zo krijgen bezoekers een smaak van het verleden, vaak bereid volgens familierecepten die generaties lang zijn doorgegeven.</p><p>De jaarlijkse slachtdag in het Boerenbondsmuseum is een kans om de geschiedenis niet alleen te bekijken maar ook te beleven en te proeven.</p><p>Deze zondag is ook de laatste dag van het seizoen, een laatste kans om dit jaar het museum te bezoeken.</p>
DESCRIPTION:<a href='/agenda/2026/11/1/traditionele-slachtdag-93596'>/agenda/2026/11/1/traditionele-slachtdag-93596</a> || <p>Ervaar de slachtdagtraditie uit begin 1900 bij het Boerenbondsmuseum! Ontdek hoe de gemeenschap vroeger samenkwam voor deze belangrijke dag. Proef historische gerechten zoals verse worst en balkenbrij en er is ook weer volop vlees verkrijgbaar.</p><p>Deze dag biedt een unieke blik op het boerenleven begin 1900 en houdt een belangrijke agrarische traditie in ere.</p><p>Bij het Boerenbondsmuseum wordt deze traditie voortgezet. Tijdens de slachtdag worden niet alleen de methoden en gebruiken van weleer toont, maar krijgen bezoekers ook de gelegenheid om historische gerechten te proeven die met deze oude technieken zijn bereid.&nbsp;Zo krijgen bezoekers een smaak van het verleden, vaak bereid volgens familierecepten die generaties lang zijn doorgegeven.</p><p>De jaarlijkse slachtdag in het Boerenbondsmuseum is een kans om de geschiedenis niet alleen te bekijken maar ook te beleven en te proeven.</p><p>Deze zondag is ook de laatste dag van het seizoen, een laatste kans om dit jaar het museum te bezoeken.</p>
LAST-MODIFIED:20260420T000902Z
LOCATION: Boerenbondsmuseum | Pandelaar 106 Gemert
SEQUENCE:0
STATUS:CONFIRMED
SUMMARY:Traditionele slachtdag
TRANSP:OPAQUE
END:VEVENT
END:VCALENDAR
