BEGIN:VCALENDAR
PRODID:-//PUBBLE//agenda//NL
VERSION:2.0
METHOD:PUBLISH
BEGIN:VEVENT
DTSTART:20260512T220000Z
DTEND:20260517T215900Z
DTSTAMP:20260420T191600Z
UID:7eada8dc-8201-4300-bcbb-db22c3dfda46
CREATED:20260420T191600Z
NAME:Kermis in Gemert gemertsnieuwsblad.nl
X-WR-CALNAME:Kermis in Gemert
X-ALT-DESC;FMTTYPE=text/html:<a href='/agenda/2026/5/13/kermis-in-gemert-93598'>/agenda/2026/5/13/kermis-in-gemert-93598</a> || 
DESCRIPTION:<a href='/agenda/2026/5/13/kermis-in-gemert-93598'>/agenda/2026/5/13/kermis-in-gemert-93598</a> || 
LAST-MODIFIED:20260420T191600Z
LOCATION: Centrum | Nieuwstraat 2 Gemert
SEQUENCE:0
STATUS:CONFIRMED
SUMMARY:Kermis in Gemert
TRANSP:OPAQUE
END:VEVENT
END:VCALENDAR
