BEGIN:VCALENDAR
PRODID:-//PUBBLE//agenda//NL
VERSION:2.0
METHOD:PUBLISH
BEGIN:VEVENT
DTSTART:20260422T181500Z
DTEND:20260422T191500Z
DTSTAMP:20260420T135036Z
UID:01dade3e-cd26-4379-acb8-975b026d05b2
CREATED:20260420T135036Z
NAME:Cabaret met Rob Scheepers gemertsnieuwsblad.nl
X-WR-CALNAME:Cabaret met Rob Scheepers
X-ALT-DESC;FMTTYPE=text/html:<a href='/agenda/2026/4/22/cabaret-met-rob-scheepers-93599'>/agenda/2026/4/22/cabaret-met-rob-scheepers-93599</a> || <p>Waarom kan de ene persoon een Madame Jeanette pepertje eten, terwijl de ander zelfs ketchup al heet vindt? Is het gewenning of overgevoeligheid? Pittig is een pijnprikkel voor je smaakpapillen. Het is een feit dat het aantal smaakpapillen drastisch afneemt naarmate je ouder wordt. Daarom is het belangrijk ze te trainen en scherp te houden. Cabaretier Rob Scheepers doet dit in zijn nieuwe programma ‘Op z’n scherpst’ – hij prikkelt je humor, zet je op scherp en daagt je uit om de grens van je smaak te verkennen. Bepaal zelf of je het echt pittig vindt, of dat je verwaarloosde smaakpapillen gewoon wat overgevoelig reageren.</p><p>Entree: 24,00 euro</p>
DESCRIPTION:<a href='/agenda/2026/4/22/cabaret-met-rob-scheepers-93599'>/agenda/2026/4/22/cabaret-met-rob-scheepers-93599</a> || <p>Waarom kan de ene persoon een Madame Jeanette pepertje eten, terwijl de ander zelfs ketchup al heet vindt? Is het gewenning of overgevoeligheid? Pittig is een pijnprikkel voor je smaakpapillen. Het is een feit dat het aantal smaakpapillen drastisch afneemt naarmate je ouder wordt. Daarom is het belangrijk ze te trainen en scherp te houden. Cabaretier Rob Scheepers doet dit in zijn nieuwe programma ‘Op z’n scherpst’ – hij prikkelt je humor, zet je op scherp en daagt je uit om de grens van je smaak te verkennen. Bepaal zelf of je het echt pittig vindt, of dat je verwaarloosde smaakpapillen gewoon wat overgevoelig reageren.</p><p>Entree: 24,00 euro</p>
LAST-MODIFIED:20260420T135036Z
LOCATION: De Eendracht | St.-Annastraat 60 Gemert
SEQUENCE:0
STATUS:CONFIRMED
SUMMARY:Cabaret met Rob Scheepers
TRANSP:OPAQUE
END:VEVENT
END:VCALENDAR
