BEGIN:VCALENDAR
PRODID:-//PUBBLE//agenda//NL
VERSION:2.0
METHOD:PUBLISH
BEGIN:VEVENT
DTSTART:20260423T180000Z
DTEND:20260423T190000Z
DTSTAMP:20260423T150044Z
UID:8c6b3e42-068c-4b44-bfdc-778d65a59f40
CREATED:20260423T150044Z
NAME:Tuney Thursday met Dan Thomas (UK) gemertsnieuwsblad.nl
X-WR-CALNAME:Tuney Thursday met Dan Thomas (UK)
X-ALT-DESC;FMTTYPE=text/html:<a href='/agenda/2026/4/23/tuney-thursday-met-dan-thomas-uk--93602'>/agenda/2026/4/23/tuney-thursday-met-dan-thomas-uk--93602</a> || <p>Dan Thomas is een singer-songwriter met een enorme stem, een akoestische gitaar en een hart vol punk- en folk-invloeden. Hij schrijft eerlijke, herkenbare songs over het leven van alledag: liefdesverdriet, mentale gezondheid, vriendschap, jeugdtrauma’s en onzekerheden.</p><p>Als voormalig rock- en metalfrontman brengt Dan de energie en intensiteit van een volledige rockband naar zijn solo akoestische shows. Verwacht meeslepende optredens, oprechte emotie en aanstekelijke refreinen die je nog lang blijft meeneuriën.</p><p>Na jaren actief te zijn geweest in de lokale scene van Hertfordshire en Bedfordshire, tourde Dan succesvol door Frankrijk, België en Duitsland (april 2023). Hierop volgden meerdere UK-tours en Europese tours in december 2023 en april–mei 2024, waarbij hij in elke stad een groeiende en hechte fanbase opbouwde.</p><p>Mis deze tour niet – rauw, oprecht en recht uit het hart.</p>
DESCRIPTION:<a href='/agenda/2026/4/23/tuney-thursday-met-dan-thomas-uk--93602'>/agenda/2026/4/23/tuney-thursday-met-dan-thomas-uk--93602</a> || <p>Dan Thomas is een singer-songwriter met een enorme stem, een akoestische gitaar en een hart vol punk- en folk-invloeden. Hij schrijft eerlijke, herkenbare songs over het leven van alledag: liefdesverdriet, mentale gezondheid, vriendschap, jeugdtrauma’s en onzekerheden.</p><p>Als voormalig rock- en metalfrontman brengt Dan de energie en intensiteit van een volledige rockband naar zijn solo akoestische shows. Verwacht meeslepende optredens, oprechte emotie en aanstekelijke refreinen die je nog lang blijft meeneuriën.</p><p>Na jaren actief te zijn geweest in de lokale scene van Hertfordshire en Bedfordshire, tourde Dan succesvol door Frankrijk, België en Duitsland (april 2023). Hierop volgden meerdere UK-tours en Europese tours in december 2023 en april–mei 2024, waarbij hij in elke stad een groeiende en hechte fanbase opbouwde.</p><p>Mis deze tour niet – rauw, oprecht en recht uit het hart.</p>
LAST-MODIFIED:20260423T150044Z
LOCATION: De Bunker | St.-Annastraat 60 Gemert
SEQUENCE:0
STATUS:CONFIRMED
SUMMARY:Tuney Thursday met Dan Thomas (UK)
TRANSP:OPAQUE
END:VEVENT
END:VCALENDAR
