BEGIN:VCALENDAR
PRODID:-//PUBBLE//agenda//NL
VERSION:2.0
METHOD:PUBLISH
BEGIN:VEVENT
DTSTART:20260424T180000Z
DTEND:20260424T190000Z
DTSTAMP:20260424T143423Z
UID:94962f17-0005-43a6-8c90-36251fcd8df2
CREATED:20260424T143423Z
NAME:Kings en Teenz Oranjefeest Bakel gemertsnieuwsblad.nl
X-WR-CALNAME:Kings en Teenz Oranjefeest Bakel
X-ALT-DESC;FMTTYPE=text/html:<a href='/agenda/2026/4/24/kings-en-teenz-oranjefeest-bakel-93603'>/agenda/2026/4/24/kings-en-teenz-oranjefeest-bakel-93603</a> || <p>Op 24 april Kings en Teenz tijdens de Oranjefeesten in Bakel met Vivah. </p>
DESCRIPTION:<a href='/agenda/2026/4/24/kings-en-teenz-oranjefeest-bakel-93603'>/agenda/2026/4/24/kings-en-teenz-oranjefeest-bakel-93603</a> || <p>Op 24 april Kings en Teenz tijdens de Oranjefeesten in Bakel met Vivah. </p>
LAST-MODIFIED:20260424T143423Z
LOCATION: Sint Wilbertsplein | Sint Wilbertsplein  Bakel
SEQUENCE:0
STATUS:CONFIRMED
SUMMARY:Kings en Teenz Oranjefeest Bakel
TRANSP:OPAQUE
END:VEVENT
END:VCALENDAR
