BEGIN:VCALENDAR
PRODID:-//PUBBLE//agenda//NL
VERSION:2.0
METHOD:PUBLISH
BEGIN:VEVENT
DTSTART:20260425T180000Z
DTEND:20260425T190000Z
DTSTAMP:20260424T175159Z
UID:f00fbeaa-e0af-420a-81ed-f16ee0880bf3
CREATED:20260424T175159Z
NAME:Koningsbal Oranjefeest Bakel gemertsnieuwsblad.nl
X-WR-CALNAME:Koningsbal Oranjefeest Bakel
X-ALT-DESC;FMTTYPE=text/html:<a href='/agenda/2026/4/25/koningsbal-oranjefeest-bakel-93604'>/agenda/2026/4/25/koningsbal-oranjefeest-bakel-93604</a> || <p>Op 25 april Koningsbal tijdens de Oranjefeesten in Bakel in de feesttent op het St.Wilbertsplein te Bakel met Monique Smit, Roy van Nuland, Vince Smix en Danny Froger. </p>
DESCRIPTION:<a href='/agenda/2026/4/25/koningsbal-oranjefeest-bakel-93604'>/agenda/2026/4/25/koningsbal-oranjefeest-bakel-93604</a> || <p>Op 25 april Koningsbal tijdens de Oranjefeesten in Bakel in de feesttent op het St.Wilbertsplein te Bakel met Monique Smit, Roy van Nuland, Vince Smix en Danny Froger. </p>
LAST-MODIFIED:20260424T175159Z
LOCATION: Sint Wilbertsplein | Sint Wilbertsplein  Bakel
SEQUENCE:0
STATUS:CONFIRMED
SUMMARY:Koningsbal Oranjefeest Bakel
TRANSP:OPAQUE
END:VEVENT
END:VCALENDAR
