BEGIN:VCALENDAR
PRODID:-//PUBBLE//agenda//NL
VERSION:2.0
METHOD:PUBLISH
BEGIN:VEVENT
DTSTART:20260425T073000Z
DTEND:20260425T083000Z
DTSTAMP:20260424T143423Z
UID:e4a35967-9741-4eed-95ca-b000d9c000e3
CREATED:20260424T143423Z
NAME:Optrekdag St. Jorisgilde Gemert gemertsnieuwsblad.nl
X-WR-CALNAME:Optrekdag St. Jorisgilde Gemert
X-ALT-DESC;FMTTYPE=text/html:<a href='/agenda/2026/4/25/optrekdag-st-jorisgilde-gemert-93607'>/agenda/2026/4/25/optrekdag-st-jorisgilde-gemert-93607</a> || <p>Op deze dag begint men in alle vroegte met een koffietafel bij de kapitein van het gilde. Daarna vertrekt men naar het gildehuis ‘Dientje’ in Gemert. Vanuit het gildehuis vertrekt men naar de kerk waar een mis ter ere van de patroonheilige wordt opgedragen. Na de mis wordt er geofferd voor het gilde en voor de kerk. De gildeschaal staat daarbij op een gildetrom en de twee schalen voor de kerk staan aan weerszijden naast de trom. Na de kerkelijke mis brengt men een vendelgroet aan de pastoor. Vervolgens trekt men naar het gemeentehuis alwaar men een borrel drinkt en wederom een vendelgroet brengt, ditmaal aan de burgemeester. Na de vendelgroet keert het gilde terug naar het gildehuis voor de koffie. Daarbij wordt roggebrood en spek gegeten.</p>
DESCRIPTION:<a href='/agenda/2026/4/25/optrekdag-st-jorisgilde-gemert-93607'>/agenda/2026/4/25/optrekdag-st-jorisgilde-gemert-93607</a> || <p>Op deze dag begint men in alle vroegte met een koffietafel bij de kapitein van het gilde. Daarna vertrekt men naar het gildehuis ‘Dientje’ in Gemert. Vanuit het gildehuis vertrekt men naar de kerk waar een mis ter ere van de patroonheilige wordt opgedragen. Na de mis wordt er geofferd voor het gilde en voor de kerk. De gildeschaal staat daarbij op een gildetrom en de twee schalen voor de kerk staan aan weerszijden naast de trom. Na de kerkelijke mis brengt men een vendelgroet aan de pastoor. Vervolgens trekt men naar het gemeentehuis alwaar men een borrel drinkt en wederom een vendelgroet brengt, ditmaal aan de burgemeester. Na de vendelgroet keert het gilde terug naar het gildehuis voor de koffie. Daarbij wordt roggebrood en spek gegeten.</p>
LAST-MODIFIED:20260424T143423Z
LOCATION: Dientje | Kerkstraat 9 Gemert
SEQUENCE:0
STATUS:CONFIRMED
SUMMARY:Optrekdag St. Jorisgilde Gemert
TRANSP:OPAQUE
END:VEVENT
END:VCALENDAR
