BEGIN:VCALENDAR
PRODID:-//PUBBLE//agenda//NL
VERSION:2.0
METHOD:PUBLISH
BEGIN:VEVENT
DTSTART:20260426T180000Z
DTEND:20260426T190000Z
DTSTAMP:20260424T175142Z
UID:abb40896-3df5-4f3f-a6d9-41fdc4258fc6
CREATED:20260424T175142Z
NAME:Koningsnacht Oranjefeest Bakel gemertsnieuwsblad.nl
X-WR-CALNAME:Koningsnacht Oranjefeest Bakel
X-ALT-DESC;FMTTYPE=text/html:<a href='/agenda/2026/4/26/koningsnacht-oranjefeest-bakel-93608'>/agenda/2026/4/26/koningsnacht-oranjefeest-bakel-93608</a> || <p>Gezelligheid en feest! Dat is het enige doel van Feestband Fiesta Orkesta.<a href="https://www.facebook.com/FiestaOrkesta?__cft__%5B0%5D=AZaqh-cZOt6k5RUgSU18ZVTGeEvyJi3SfH2fLvmjNaoUkdCg6ja4iWfpMHI7ZygOKOQVbFfnmhbDFaN0h-q3ef4EMRjOOltbfiXe9P_lvWwQbRsPYjVfXDJ3EO141feQ1l0A7EHAO8JCDDxM-XC5oNOOr0DwdAYYnPffIvKZapx9Fl0UYrHqTPVMT_S4YRrLhb0&amp;__tn__=-%5DK-R" target="_blank"></a> Een feestje bouwen kunnen zij dan ook als geen ander, want niks is te gek voor deze band. Verwacht een avond vol meezingers, interactie en een hoop gekkigheid.</p>
DESCRIPTION:<a href='/agenda/2026/4/26/koningsnacht-oranjefeest-bakel-93608'>/agenda/2026/4/26/koningsnacht-oranjefeest-bakel-93608</a> || <p>Gezelligheid en feest! Dat is het enige doel van Feestband Fiesta Orkesta.<a href="https://www.facebook.com/FiestaOrkesta?__cft__%5B0%5D=AZaqh-cZOt6k5RUgSU18ZVTGeEvyJi3SfH2fLvmjNaoUkdCg6ja4iWfpMHI7ZygOKOQVbFfnmhbDFaN0h-q3ef4EMRjOOltbfiXe9P_lvWwQbRsPYjVfXDJ3EO141feQ1l0A7EHAO8JCDDxM-XC5oNOOr0DwdAYYnPffIvKZapx9Fl0UYrHqTPVMT_S4YRrLhb0&amp;__tn__=-%5DK-R" target="_blank"></a> Een feestje bouwen kunnen zij dan ook als geen ander, want niks is te gek voor deze band. Verwacht een avond vol meezingers, interactie en een hoop gekkigheid.</p>
LAST-MODIFIED:20260424T175142Z
LOCATION: Sint Wilbertsplein | Sint Wilbertsplein  Bakel
SEQUENCE:0
STATUS:CONFIRMED
SUMMARY:Koningsnacht Oranjefeest Bakel
TRANSP:OPAQUE
END:VEVENT
END:VCALENDAR
