BEGIN:VCALENDAR
PRODID:-//PUBBLE//agenda//NL
VERSION:2.0
METHOD:PUBLISH
BEGIN:VEVENT
DTSTART:20260427T100000Z
DTEND:20260427T110000Z
DTSTAMP:20260424T174425Z
UID:e5e7249b-3eaf-4f15-bb9f-a9e60aef3d6a
CREATED:20260424T174425Z
NAME:Koningsdag Oranjefeest Bakel gemertsnieuwsblad.nl
X-WR-CALNAME:Koningsdag Oranjefeest Bakel
X-ALT-DESC;FMTTYPE=text/html:<a href='/agenda/2026/4/27/koningsdag-oranjefeest-bakel-93612'>/agenda/2026/4/27/koningsdag-oranjefeest-bakel-93612</a> || <p>Op Koningsdag zelf staat het dorp volledig in het teken van gezelligheid voor jong en oud. Voor de kinderen organiseren we een leuke en actieve <strong>spelletjesmarkt</strong>, waar ze zich helemaal kunnen uitleven. Daarnaast zijn er diverse optredens en volop gezelligheid in het centrum van Bakel.</p><p>Een dag vol plezier, ontmoeting en échte Bakelse saamhorigheid.</p>
DESCRIPTION:<a href='/agenda/2026/4/27/koningsdag-oranjefeest-bakel-93612'>/agenda/2026/4/27/koningsdag-oranjefeest-bakel-93612</a> || <p>Op Koningsdag zelf staat het dorp volledig in het teken van gezelligheid voor jong en oud. Voor de kinderen organiseren we een leuke en actieve <strong>spelletjesmarkt</strong>, waar ze zich helemaal kunnen uitleven. Daarnaast zijn er diverse optredens en volop gezelligheid in het centrum van Bakel.</p><p>Een dag vol plezier, ontmoeting en échte Bakelse saamhorigheid.</p>
LAST-MODIFIED:20260424T174425Z
LOCATION: Sint Wilbertsplein | Sint Wilbertsplein  Bakel
SEQUENCE:0
STATUS:CONFIRMED
SUMMARY:Koningsdag Oranjefeest Bakel
TRANSP:OPAQUE
END:VEVENT
END:VCALENDAR
